BEGIN:VCALENDAR
VERSION:2.0
PRODID:-//Textile Exchange - ECPv6.15.12.2//NONSGML v1.0//EN
CALSCALE:GREGORIAN
METHOD:PUBLISH
X-ORIGINAL-URL:https://textileexchange.org
X-WR-CALDESC:Events for Textile Exchange
REFRESH-INTERVAL;VALUE=DURATION:PT1H
X-Robots-Tag:noindex
X-PUBLISHED-TTL:PT1H
BEGIN:VTIMEZONE
TZID:America/Chicago
BEGIN:DAYLIGHT
TZOFFSETFROM:-0600
TZOFFSETTO:-0500
TZNAME:CDT
DTSTART:20240310T080000
END:DAYLIGHT
BEGIN:STANDARD
TZOFFSETFROM:-0500
TZOFFSETTO:-0600
TZNAME:CST
DTSTART:20241103T070000
END:STANDARD
BEGIN:DAYLIGHT
TZOFFSETFROM:-0600
TZOFFSETTO:-0500
TZNAME:CDT
DTSTART:20250309T080000
END:DAYLIGHT
BEGIN:STANDARD
TZOFFSETFROM:-0500
TZOFFSETTO:-0600
TZNAME:CST
DTSTART:20251102T070000
END:STANDARD
BEGIN:DAYLIGHT
TZOFFSETFROM:-0600
TZOFFSETTO:-0500
TZNAME:CDT
DTSTART:20260308T080000
END:DAYLIGHT
BEGIN:STANDARD
TZOFFSETFROM:-0500
TZOFFSETTO:-0600
TZNAME:CST
DTSTART:20261101T070000
END:STANDARD
END:VTIMEZONE
BEGIN:VTIMEZONE
TZID:Europe/London
BEGIN:DAYLIGHT
TZOFFSETFROM:+0000
TZOFFSETTO:+0100
TZNAME:BST
DTSTART:20240331T010000
END:DAYLIGHT
BEGIN:STANDARD
TZOFFSETFROM:+0100
TZOFFSETTO:+0000
TZNAME:GMT
DTSTART:20241027T010000
END:STANDARD
BEGIN:DAYLIGHT
TZOFFSETFROM:+0000
TZOFFSETTO:+0100
TZNAME:BST
DTSTART:20250330T010000
END:DAYLIGHT
BEGIN:STANDARD
TZOFFSETFROM:+0100
TZOFFSETTO:+0000
TZNAME:GMT
DTSTART:20251026T010000
END:STANDARD
BEGIN:DAYLIGHT
TZOFFSETFROM:+0000
TZOFFSETTO:+0100
TZNAME:BST
DTSTART:20260329T010000
END:DAYLIGHT
BEGIN:STANDARD
TZOFFSETFROM:+0100
TZOFFSETTO:+0000
TZNAME:GMT
DTSTART:20261025T010000
END:STANDARD
END:VTIMEZONE
BEGIN:VEVENT
DTSTART;TZID=America/Chicago:20250429T090000
DTEND;TZID=America/Chicago:20250501T190000
DTSTAMP:20260419T215956
CREATED:20250127T120719Z
LAST-MODIFIED:20250127T120719Z
UID:52068-1745917200-1746126000@textileexchange.org
SUMMARY:Circularity: Accelerating the Circular Economy
DESCRIPTION:Join Textile Exchange at Circularity\, a gathering of professionals advancing solutions for the circular economy (April 29-May 1\, 2025\, in Denver\, CO). Join the growing circularity community and gain insights to move beyond incremental action\, catalyze systems change\, and accelerate the shift to a circular economy. Buy Tickets
URL:https://textileexchange.org/event/circularity-accelerating-the-circular-economy/
LOCATION:Denver\, CO
CATEGORIES:Industry Event
END:VEVENT
BEGIN:VEVENT
DTSTART;VALUE=DATE:20250508
DTEND;VALUE=DATE:20250509
DTSTAMP:20260419T215956
CREATED:20250409T083332Z
LAST-MODIFIED:20250409T083702Z
UID:52627-1746662400-1746748799@textileexchange.org
SUMMARY:Sustainable Futures Conference
DESCRIPTION:Sustainable Futures brings together leaders from business and finance\, academic experts and decision makers from the world’s largest organisations to help solve one of the most disruptive challenges facing global business today. \nThis year’s conference\, Sustainable Futures: business value from sustainability\, held in partnership with the University of Cambridge Centre for Risk Studies\, looks to the resilience\, efficiencies and commercial opportunities available to organisations taking the lead on sustainability.
URL:https://textileexchange.org/event/sustainable-futures-conference/
LOCATION:London
CATEGORIES:Industry Event
END:VEVENT
BEGIN:VEVENT
DTSTART;VALUE=DATE:20250514
DTEND;VALUE=DATE:20250516
DTSTAMP:20260419T215956
CREATED:20250325T144001Z
LAST-MODIFIED:20250325T144101Z
UID:52460-1747180800-1747353599@textileexchange.org
SUMMARY:Cascale Forum: Ho Chi Minh City
DESCRIPTION:Under the theme Co-Creating Tomorrow: Unified Action for People & Planet\, this immersive two-day event will act as a catalyst for collective action. Curated to drive meaningful\, industry-wide change\, this Cascale Forum will bring together manufacturers\, leading brands\, and supply chain partners to collaborate on transformative solutions in the consumer goods industry.
URL:https://textileexchange.org/event/cascale-forum-ho-chi-minh-city/
LOCATION:Ho Chi Minh City
CATEGORIES:Industry Event
END:VEVENT
BEGIN:VEVENT
DTSTART;VALUE=DATE:20250518
DTEND;VALUE=DATE:20250521
DTSTAMP:20260419T215956
CREATED:20250325T144221Z
LAST-MODIFIED:20250325T144221Z
UID:52463-1747526400-1747785599@textileexchange.org
SUMMARY:Business of Luxury Summit
DESCRIPTION:The Financial Times Business of Luxury Summit returns in 2025 to explore the most influential trends and financial dynamics shaping the global luxury market. Key topics will include the spending patterns of ultra high-net-worth individuals\, the impact of China’s economic stimulus efforts\, and potential industry shifts in light of proposed U.S. tariffs. \nTaking place from 18–20 May at Hotel Arts in Barcelona and online\, the summit will feature a panel discussion titled “The real work of sustainability: How to build ethical supply chains\,” where Textile Exchange CEO Claire Bergkamp will join other leaders to discuss how luxury brands can respond to increasing regulatory and consumer demands by building more ethical and transparent supply chains.
URL:https://textileexchange.org/event/business-of-luxury-summit/
LOCATION:Barcelona
CATEGORIES:Industry Event
END:VEVENT
END:VCALENDAR