BEGIN:VCALENDAR
VERSION:2.0
PRODID:-//Textile Exchange - ECPv6.15.12.2//NONSGML v1.0//EN
CALSCALE:GREGORIAN
METHOD:PUBLISH
X-ORIGINAL-URL:https://textileexchange.org
X-WR-CALDESC:Events for Textile Exchange
REFRESH-INTERVAL;VALUE=DURATION:PT1H
X-Robots-Tag:noindex
X-PUBLISHED-TTL:PT1H
BEGIN:VTIMEZONE
TZID:America/New_York
BEGIN:DAYLIGHT
TZOFFSETFROM:-0500
TZOFFSETTO:-0400
TZNAME:EDT
DTSTART:20220313T070000
END:DAYLIGHT
BEGIN:STANDARD
TZOFFSETFROM:-0400
TZOFFSETTO:-0500
TZNAME:EST
DTSTART:20221106T060000
END:STANDARD
BEGIN:DAYLIGHT
TZOFFSETFROM:-0500
TZOFFSETTO:-0400
TZNAME:EDT
DTSTART:20230312T070000
END:DAYLIGHT
BEGIN:STANDARD
TZOFFSETFROM:-0400
TZOFFSETTO:-0500
TZNAME:EST
DTSTART:20231105T060000
END:STANDARD
BEGIN:DAYLIGHT
TZOFFSETFROM:-0500
TZOFFSETTO:-0400
TZNAME:EDT
DTSTART:20240310T070000
END:DAYLIGHT
BEGIN:STANDARD
TZOFFSETFROM:-0400
TZOFFSETTO:-0500
TZNAME:EST
DTSTART:20241103T060000
END:STANDARD
BEGIN:DAYLIGHT
TZOFFSETFROM:-0500
TZOFFSETTO:-0400
TZNAME:EDT
DTSTART:20250309T070000
END:DAYLIGHT
BEGIN:STANDARD
TZOFFSETFROM:-0400
TZOFFSETTO:-0500
TZNAME:EST
DTSTART:20251102T060000
END:STANDARD
BEGIN:DAYLIGHT
TZOFFSETFROM:-0500
TZOFFSETTO:-0400
TZNAME:EDT
DTSTART:20260308T070000
END:DAYLIGHT
BEGIN:STANDARD
TZOFFSETFROM:-0400
TZOFFSETTO:-0500
TZNAME:EST
DTSTART:20261101T060000
END:STANDARD
END:VTIMEZONE
BEGIN:VTIMEZONE
TZID:America/Chicago
BEGIN:DAYLIGHT
TZOFFSETFROM:-0600
TZOFFSETTO:-0500
TZNAME:CDT
DTSTART:20220313T080000
END:DAYLIGHT
BEGIN:STANDARD
TZOFFSETFROM:-0500
TZOFFSETTO:-0600
TZNAME:CST
DTSTART:20221106T070000
END:STANDARD
BEGIN:DAYLIGHT
TZOFFSETFROM:-0600
TZOFFSETTO:-0500
TZNAME:CDT
DTSTART:20230312T080000
END:DAYLIGHT
BEGIN:STANDARD
TZOFFSETFROM:-0500
TZOFFSETTO:-0600
TZNAME:CST
DTSTART:20231105T070000
END:STANDARD
BEGIN:DAYLIGHT
TZOFFSETFROM:-0600
TZOFFSETTO:-0500
TZNAME:CDT
DTSTART:20240310T080000
END:DAYLIGHT
BEGIN:STANDARD
TZOFFSETFROM:-0500
TZOFFSETTO:-0600
TZNAME:CST
DTSTART:20241103T070000
END:STANDARD
BEGIN:DAYLIGHT
TZOFFSETFROM:-0600
TZOFFSETTO:-0500
TZNAME:CDT
DTSTART:20250309T080000
END:DAYLIGHT
BEGIN:STANDARD
TZOFFSETFROM:-0500
TZOFFSETTO:-0600
TZNAME:CST
DTSTART:20251102T070000
END:STANDARD
BEGIN:DAYLIGHT
TZOFFSETFROM:-0600
TZOFFSETTO:-0500
TZNAME:CDT
DTSTART:20260308T080000
END:DAYLIGHT
BEGIN:STANDARD
TZOFFSETFROM:-0500
TZOFFSETTO:-0600
TZNAME:CST
DTSTART:20261101T070000
END:STANDARD
END:VTIMEZONE
BEGIN:VTIMEZONE
TZID:Europe/London
BEGIN:DAYLIGHT
TZOFFSETFROM:+0000
TZOFFSETTO:+0100
TZNAME:BST
DTSTART:20240331T010000
END:DAYLIGHT
BEGIN:STANDARD
TZOFFSETFROM:+0100
TZOFFSETTO:+0000
TZNAME:GMT
DTSTART:20241027T010000
END:STANDARD
BEGIN:DAYLIGHT
TZOFFSETFROM:+0000
TZOFFSETTO:+0100
TZNAME:BST
DTSTART:20250330T010000
END:DAYLIGHT
BEGIN:STANDARD
TZOFFSETFROM:+0100
TZOFFSETTO:+0000
TZNAME:GMT
DTSTART:20251026T010000
END:STANDARD
BEGIN:DAYLIGHT
TZOFFSETFROM:+0000
TZOFFSETTO:+0100
TZNAME:BST
DTSTART:20260329T010000
END:DAYLIGHT
BEGIN:STANDARD
TZOFFSETFROM:+0100
TZOFFSETTO:+0000
TZNAME:GMT
DTSTART:20261025T010000
END:STANDARD
END:VTIMEZONE
BEGIN:VEVENT
DTSTART;VALUE=DATE:20230605
DTEND;VALUE=DATE:20230608
DTSTAMP:20260424T215445
CREATED:20221207T170221Z
LAST-MODIFIED:20221207T170221Z
UID:38472-1685923200-1686182399@textileexchange.org
SUMMARY:Circularity 23
DESCRIPTION:As the leading convening of professionals building the circular economy\, Circularity 23 (June 5-7\, Seattle\, WA) offers thought-provoking keynotes\, actionable breakouts\, a solutions-oriented expo and unparalleled networking opportunities. Join the growing community of visionaries and practitioners to move beyond incremental action\, catalyze systems change and accelerate the circular economy.
URL:https://textileexchange.org/event/circularity-23/
CATEGORIES:Industry Event
END:VEVENT
BEGIN:VEVENT
DTSTART;VALUE=DATE:20230608
DTEND;VALUE=DATE:20230615
DTSTAMP:20260424T215445
CREATED:20210819T142346Z
LAST-MODIFIED:20221201T091618Z
UID:26036-1686182400-1686787199@textileexchange.org
SUMMARY:ITMA 2023: Transforming the World of Textiles
DESCRIPTION:The world’s largest international textile and garment technology exhibition\, ITMA highlights innovations that will help textile and garment manufacturers transform and grow their business. \nITMA 2023 will take place in Milan\, Italy.
URL:https://textileexchange.org/event/transforming-the-world-of-textiles/
CATEGORIES:Industry Event
END:VEVENT
BEGIN:VEVENT
DTSTART;VALUE=DATE:20230612
DTEND;VALUE=DATE:20230614
DTSTAMP:20260424T215445
CREATED:20230124T100651Z
LAST-MODIFIED:20230124T100651Z
UID:39893-1686528000-1686700799@textileexchange.org
SUMMARY:Planet Textiles 2023
DESCRIPTION:The SAC is excited to be hosting the 2023 edition of Planet Textiles at this year’s Textile & Garment Technology Exhibition (ITMA 2023)\, the world’s largest international textile and garment technology exhibition. Join us in Milan on June 12 & 13 for this unique industry event. \nPlanet Textiles\, the international sustainability conference\, will bring together textile and apparel organizations\, industry leaders and stakeholders with a commitment to drive sustainability improvements throughout global supply chains. The two-day event will provide the opportunity to collaborate and work towards driving collective action\, change and progress within the sector. Across the two days\, delegates will explore technology innovations and the latest thinking on circularity\, sustainability measurement\, decarbonization and much more.
URL:https://textileexchange.org/event/planet-textiles-2023/
CATEGORIES:Industry Event
END:VEVENT
BEGIN:VEVENT
DTSTART;TZID=America/New_York:20230615T080000
DTEND;TZID=America/New_York:20230615T153000
DTSTAMP:20260424T215445
CREATED:20230126T154535Z
LAST-MODIFIED:20230126T154535Z
UID:40059-1686816000-1686843000@textileexchange.org
SUMMARY:Ellen MacArthur Foundation Summit '23
DESCRIPTION:The Ellen MacArthur Foundation’s Summit will take place in person at The Roundhouse\, London\, on Thursday\, June 15th from 1:00pm – 8:30pm BST. \nThe Summit is the Foundation’s flagship annual event and they will bring their Network of businesses\, policymakers\, innovators\, universities\, cities\, philanthropic organisations\, and thought leaders together to accelerate the transition to a circular economy. \n 
URL:https://textileexchange.org/event/ellen-macarthur-foundation-summit-23/
CATEGORIES:Industry Event
END:VEVENT
BEGIN:VEVENT
DTSTART;TZID=America/New_York:20230615T080000
DTEND;TZID=America/New_York:20230615T160000
DTSTAMP:20260424T215445
CREATED:20230411T142236Z
LAST-MODIFIED:20230411T142236Z
UID:41363-1686816000-1686844800@textileexchange.org
SUMMARY:Ellen MacArthur Foundation’s SUMMIT23
DESCRIPTION:At Summit 23\, Ellen MacArthur Foundation’s flagship annual event\, they will be joined by business leaders\, policymakers\, innovators\, and global changemakers to explore how nature-positive circular economy solutions can create prosperity and tackle some of the biggest global challenges facing the world today. \n\n\n\nThe summit will take place in person at the Roundhouse\, London from 13:00-21:00 BST.
URL:https://textileexchange.org/event/ellen-macarthur-foundations-summit23/
CATEGORIES:Industry Event
END:VEVENT
BEGIN:VEVENT
DTSTART;VALUE=DATE:20230621
DTEND;VALUE=DATE:20230623
DTSTAMP:20260424T215445
CREATED:20221201T090522Z
LAST-MODIFIED:20221201T090522Z
UID:37884-1687305600-1687478399@textileexchange.org
SUMMARY:2023 Better Cotton Conference
DESCRIPTION:Better Cotton is pleased to announce that they will host their 2023 Better Cotton Conference in Amsterdam\, Netherlands as well as online on 21 and 22 June. \nThe conference will help to drive their ambitious mission and strategic direction onward whilst highlighting the important work and perspectives of others working on the same issues. \nAttendees will have the opportunity to connect with industry leaders and experts to explore the most salient issues in sustainable cotton production\, such as climate change adaptation and mitigation\, traceability\, livelihoods\, and regenerative agriculture. In addition\, they’re delighted to invite members to attend an Annual Member Meeting which they will host during the conference.
URL:https://textileexchange.org/event/2023-better-cotton-conference/
CATEGORIES:Industry Event
END:VEVENT
BEGIN:VEVENT
DTSTART;VALUE=DATE:20230621
DTEND;VALUE=DATE:20230623
DTSTAMP:20260424T215445
CREATED:20221220T121600Z
LAST-MODIFIED:20221220T121621Z
UID:39001-1687305600-1687478399@textileexchange.org
SUMMARY:Sustainable Apparel and Textiles Conference USA
DESCRIPTION:This two-day business conference will address how brands can adapt practices to deliver on ambitious commitments and growing stakeholder expectations. Innovation Forum will equip delegates with the best-practice and guidance to develop net-zero strategies\, transform supply chains\, manage consumer communications\, scale circularity\, reduce waste\, and drive positive social impacts. \nThis event will take place in New York City.
URL:https://textileexchange.org/event/sustainable-apparel-and-textiles-conference-usa/
CATEGORIES:Industry Event
END:VEVENT
BEGIN:VEVENT
DTSTART;VALUE=DATE:20230627
DTEND;VALUE=DATE:20230629
DTSTAMP:20260424T215445
CREATED:20230216T110757Z
LAST-MODIFIED:20230216T110757Z
UID:40389-1687824000-1687996799@textileexchange.org
SUMMARY:Global Fashion Summit: Copenhagen Edition 2023
DESCRIPTION:Global Fashion Summit: Copenhagen Edition 2023 will take place on 27-28 June in the DR Koncerthuset in Copenhagen\, Denmark. The Summit will be supported by Principal Sponsor\, Maersk and side events will commence on 26 June.
URL:https://textileexchange.org/event/global-fashion-summit-copenhagen-edition-2023/
CATEGORIES:Industry Event
END:VEVENT
BEGIN:VEVENT
DTSTART;VALUE=DATE:20230718
DTEND;VALUE=DATE:20230721
DTSTAMP:20260424T215445
CREATED:20230608T163049Z
LAST-MODIFIED:20230608T163049Z
UID:42730-1689638400-1689897599@textileexchange.org
SUMMARY:Texworld Evolution NYC
DESCRIPTION:Twice a year in New York City\, thousands of international exhibitors gather to connect with buyers for the largest sourcing event on the East Coast. \nEstablished in 2006\, Texworld New York City serves as a place of inspiration for designers\, buyers\, and industry professionals with exclusive trend forecasts and educational seminars hosted by industry-leading professionals. \nThe event continues to create opportunities to support the textile and apparel sourcing community by connecting global manufacturers and suppliers to the U.S. market.
URL:https://textileexchange.org/event/texworld-evolution-nyc-2/
CATEGORIES:Industry Event
END:VEVENT
BEGIN:VEVENT
DTSTART;VALUE=DATE:20230908
DTEND;VALUE=DATE:20230909
DTSTAMP:20260424T215445
CREATED:20230811T105654Z
LAST-MODIFIED:20230811T105654Z
UID:43701-1694131200-1694217599@textileexchange.org
SUMMARY:ZDHC South Asia Grand Regional Conference
DESCRIPTION:ZDHC is excited to announce that the South Asia division of ZDHC will be hosting a prestigious regional conference on September 8\, 2023\, at the renowned Taj Yeshawantpur in Bangalore. This important event will bring together key players from various sectors including brand representatives\, manufacturers\, solution providers\, association members\, and academic experts. \nAs they delve into a day filled with engaging presentations and insightful panel discussions\, attendees will have the opportunity to explore the forefront of sustainable chemistry and its implications. This event is planned as an in-person gathering to foster meaningful interaction and collaboration. However\, ZDHC recognises the need for accessibility and global inclusion\, hence they will also be offering live streaming of the conference to reach our global audience.
URL:https://textileexchange.org/event/zdhc-south-asia-grand-regional-conference/
CATEGORIES:Industry Event
END:VEVENT
BEGIN:VEVENT
DTSTART;VALUE=DATE:20230919
DTEND;VALUE=DATE:20230922
DTSTAMP:20260424T215445
CREATED:20230403T161922Z
LAST-MODIFIED:20230403T161922Z
UID:41296-1695081600-1695340799@textileexchange.org
SUMMARY:Lineapelle
DESCRIPTION:Lineapelle is an international exhibition of leather\, accessories\, components\, fabrics\, synthetics\, and models. The event will take place in Milan\, Italy.
URL:https://textileexchange.org/event/lineapelle/
CATEGORIES:Industry Event
END:VEVENT
BEGIN:VEVENT
DTSTART;VALUE=DATE:20230925
DTEND;VALUE=DATE:20230927
DTSTAMP:20260424T215445
CREATED:20230126T155204Z
LAST-MODIFIED:20230126T155204Z
UID:40070-1695600000-1695772799@textileexchange.org
SUMMARY:Sustainable Apparel Coalition 2023 Annual Meeting
DESCRIPTION:The Sustainable Apparel Coalition (SAC) 2023 Annual Meeting will be held in Boston\, USA and online. Every year\, SAC brings together their community of members\, experts\, and peers to foster industry collaboration on sustainable fashion in a non-competitive space. It is here that SAC joins as a coalition to learn about the evolution of the Higg Index tools\, promote equal partnership across the value chain\, share stories and best practices\, and join forces to reach our industry goals. By attending the Annual Meeting\, you’ll gain access to inspiring keynotes\, engaging breakout sessions and valuable networking opportunities.
URL:https://textileexchange.org/event/sustainable-apparel-coalition-2023-annual-meeting/
CATEGORIES:Industry Event
END:VEVENT
BEGIN:VEVENT
DTSTART;VALUE=DATE:20230925
DTEND;VALUE=DATE:20230930
DTSTAMP:20260424T215445
CREATED:20230403T161508Z
LAST-MODIFIED:20230403T161508Z
UID:41294-1695600000-1696031999@textileexchange.org
SUMMARY:Natural Fibre Connect 2023
DESCRIPTION:Join the Alpaca\, Cashmere\, Mohair\, and Wool industries for a hybrid event filled with presentations\, panel discussions\, and workshops on the key topics concerning the animal fibre textile industries. The online and in-person event takes place on 28-29 September 2023 in Biella\, Italy. Additional workshops and mill visits in and around Biella will be available beforehand as well. 
URL:https://textileexchange.org/event/natural-fibre-connect-2023/
CATEGORIES:Industry Event
END:VEVENT
BEGIN:VEVENT
DTSTART;VALUE=DATE:20230927
DTEND;VALUE=DATE:20230928
DTSTAMP:20260424T215445
CREATED:20230831T082632Z
LAST-MODIFIED:20230831T082632Z
UID:43961-1695772800-1695859199@textileexchange.org
SUMMARY:Global Fashion Summit: Boston Edition 2023
DESCRIPTION:Global Fashion Summit: Boston Edition 2023 will take place on 27 September\, in the Revere Hotel in Boston\, United States. The new edition is the second time that the event will be hosted outside of Copenhagen and the first time in North America since its inception in 2009. At the Boston Edition\, GFA will present content on the theme of ambition to action with a particular focus on retailers.
URL:https://textileexchange.org/event/global-fashion-summit-boston-edition-2023/
CATEGORIES:Industry Event
END:VEVENT
BEGIN:VEVENT
DTSTART;VALUE=DATE:20231011
DTEND;VALUE=DATE:20231013
DTSTAMP:20260424T215445
CREATED:20230801T165905Z
LAST-MODIFIED:20230801T165905Z
UID:43611-1696982400-1697155199@textileexchange.org
SUMMARY:Ellen MacArthur Foundation’s Arles Network Workshop
DESCRIPTION:The Arles Network Workshop comprises: \n\nCurated networking opportunities with the world’s leading circular economy professionals\nSessions covering a range of topics\, including business models\, climate action\, design\, fashion\, finance\, food\, marketing\, plastics\, policy\, and supply chains\nInsight and learning sessions\, plus hands-on\, action-oriented working sessions designed to support your organisation’s transition from linear to circular\n\n  \nThe workshop will be held at LUMA Arles\, France\, on the 11th and 12th October\, 2023.
URL:https://textileexchange.org/event/ellen-macarthur-foundations-arles-network-workshop/
CATEGORIES:Industry Event
END:VEVENT
BEGIN:VEVENT
DTSTART;VALUE=DATE:20231019
DTEND;VALUE=DATE:20231020
DTSTAMP:20260424T215445
CREATED:20230802T145830Z
LAST-MODIFIED:20230802T145852Z
UID:43617-1697673600-1697759999@textileexchange.org
SUMMARY:Fashion for Good Innovation Fest 2023
DESCRIPTION:AGENDA: \n16:00 Innovation Fest \n\nWelcome & Introduction from Katrin Ley – Managing Director at Fashion for Good\nKeynote with Matt Dwyer – VP Product Impact & Innovation at Patagonia\nInnovator Discussion: Integrating innovation into the supply chain: Challenges and key levers of success\nProgramme Reflection & Celebration\n\n18:00 Flying Dinner & Festive Drinks \n  \nLocation: Fashion for Good\, Rokin 102\, Amsterdam
URL:https://textileexchange.org/event/fashion-for-good-innovation-fest-2023/
CATEGORIES:Industry Event
END:VEVENT
BEGIN:VEVENT
DTSTART;VALUE=DATE:20231102
DTEND;VALUE=DATE:20231103
DTSTAMP:20260424T215445
CREATED:20230830T081908Z
LAST-MODIFIED:20230830T081908Z
UID:43933-1698883200-1698969599@textileexchange.org
SUMMARY:Sourcing Journal Fall Summit
DESCRIPTION:This annual Super Bowl of Sourcing\, held in-person in New York\, is the unrivaled meeting place for our community. Covering the full spectrum of our industry\, the full day of speakers and panels offers a 360-degree view of the current landscape and peers ahead for insight into what’s coming next.
URL:https://textileexchange.org/event/sourcing-journal-fall-summit/
CATEGORIES:Industry Event
END:VEVENT
BEGIN:VEVENT
DTSTART;VALUE=DATE:20231128
DTEND;VALUE=DATE:20231129
DTSTAMP:20260424T215445
CREATED:20230824T152454Z
LAST-MODIFIED:20230824T152454Z
UID:43893-1701129600-1701215999@textileexchange.org
SUMMARY:Sustainability Talks Istanbul 2023
DESCRIPTION:Sustainability Talks Istanbul aims to provide sustainable solutions to all the challenges faced by the textile value chain\, from responsible sourcing of raw materials\, traceability\, energy and water efficiency to minimum resource use\, with best practices and innovations in the industry.
URL:https://textileexchange.org/event/sustainability-talks-istanbul-2023/
CATEGORIES:Industry Event
END:VEVENT
BEGIN:VEVENT
DTSTART;VALUE=DATE:20231204
DTEND;VALUE=DATE:20231205
DTSTAMP:20260424T215445
CREATED:20230906T111326Z
LAST-MODIFIED:20230906T111326Z
UID:44077-1701648000-1701734399@textileexchange.org
SUMMARY:SAC Manufacturer Forum: Bangalore
DESCRIPTION:Get ready to ignite positive change at the Manufacturer Forum: Bangalore\, scheduled for December 4\, 2023 in India. The Sustainable Apparel Coalition invites you to be a Catalyst for Change as we delve into the pivotal role manufacturers play in shaping the future of sustainability.
URL:https://textileexchange.org/event/sac-manufacturer-forum-bangalore/
CATEGORIES:Industry Event
END:VEVENT
BEGIN:VEVENT
DTSTART;VALUE=DATE:20240207
DTEND;VALUE=DATE:20240208
DTSTAMP:20260424T215445
CREATED:20231113T081855Z
LAST-MODIFIED:20231113T081918Z
UID:45320-1707264000-1707350399@textileexchange.org
SUMMARY:RSB Innovations Meeting\, in partnership with P&G
DESCRIPTION:Policy & Practice for Sustainable Feedstocks & Landscapes\nThis full-day event will invite regional and global transition leaders to dig into the role of policy in helping the growth of a sustainable biocircular economy and the ways in which positive impacts can be incentivised. They will explore the interdependence of sectors – from aviation to consumer goods – that are reliant on common raw materials\, and how policy developments in one sector can and must become enablers of the bioeconomy as a whole. \nThis event will take place in Cincinnati\, Ohio\, USA.
URL:https://textileexchange.org/event/rsb-innovations-meeting-in-partnership-with-pg/
CATEGORIES:Industry Event
END:VEVENT
BEGIN:VEVENT
DTSTART;VALUE=DATE:20240311
DTEND;VALUE=DATE:20240314
DTSTAMP:20260424T215445
CREATED:20240202T084714Z
LAST-MODIFIED:20240202T084714Z
UID:47034-1710115200-1710374399@textileexchange.org
SUMMARY:2024 AbTF Cotton Conference
DESCRIPTION:The Aid by Trade Foundation (AbTF) announces the 2024 AbTF Cotton Conference\, which will take place from 11 to 13 March in the vibrant metropolis of Mumbai\, India. At this annual conference\, AbTF brings together leading experts\, researchers\, and professionals from throughout the world to discuss current challenges\, and their solutions\, in the field of sustainable cotton and textile production. This year’s focus is on innovative and digital ways to develop transparent and sustainable supply chains.
URL:https://textileexchange.org/event/2024-abtf-cotton-conference/
CATEGORIES:Industry Event
END:VEVENT
BEGIN:VEVENT
DTSTART;VALUE=DATE:20240521
DTEND;VALUE=DATE:20240524
DTSTAMP:20260424T215445
CREATED:20231115T085337Z
LAST-MODIFIED:20231115T085337Z
UID:45435-1716249600-1716508799@textileexchange.org
SUMMARY:Global Fashion Summit: Copenhagen Edition 2024
DESCRIPTION:Global Fashion Summit: Copenhagen Edition 2024 will present three days of action-oriented content on 21-23 May across a range of prestigious Copenhagen locations.  \n\nPre-summit activities will take place on 21 May with productive roundtable meetings and networking events for speakers\, partners\, and premium ticketholders. (Location: TBA) \nThe core Summit days of 22-23 May will present inspiring solutions and informative content sessions for all ticketholders at the magnificent Copengagen Concern Hall.
URL:https://textileexchange.org/event/global-fashion-summit-copenhagen-edition-2024/
CATEGORIES:Industry Event
END:VEVENT
BEGIN:VEVENT
DTSTART;VALUE=DATE:20240909
DTEND;VALUE=DATE:20240912
DTSTAMP:20260424T215445
CREATED:20240327T121745Z
LAST-MODIFIED:20240327T121745Z
UID:47915-1725840000-1726099199@textileexchange.org
SUMMARY:Cascale Annual Meeting 2024
DESCRIPTION:Step into the dawn of “a new era of unified impact” at the Cascale Annual Meeting 2024 in Munich\, Germany. Exclusively crafted for Cascale members\, this electrifying event brings together over 600+ attendees\, representing a diverse mix of manufacturers\, brands\, retailers\, academics\, NGOs\, government officials and service providers from all corners of the globe\, both in-person and online.
URL:https://textileexchange.org/event/cascale-annual-meeting-2024/
CATEGORIES:Industry Event
END:VEVENT
BEGIN:VEVENT
DTSTART;VALUE=DATE:20250424
DTEND;VALUE=DATE:20250427
DTSTAMP:20260424T215445
CREATED:20250403T153417Z
LAST-MODIFIED:20250403T153417Z
UID:52592-1745452800-1745711999@textileexchange.org
SUMMARY:ChangeNOW 2025
DESCRIPTION:At the midway point of the 2020-2030 decade for decisive climate action\, and echoing the 10th anniversary of the Paris Agreement\, ChangeNOW 2025 gathers 1\,000 groundbreaking solutions and visionary leaders in a spectacular showcase to accelerate the transition towards a sustainable world.
URL:https://textileexchange.org/event/changenow-2025/
LOCATION:Grand Palais\, Paris\, France
CATEGORIES:Industry Event
END:VEVENT
BEGIN:VEVENT
DTSTART;VALUE=DATE:20250429
DTEND;VALUE=DATE:20250501
DTSTAMP:20260424T215445
CREATED:20250325T143714Z
LAST-MODIFIED:20250325T143714Z
UID:52456-1745884800-1746057599@textileexchange.org
SUMMARY:Sustainable Apparel and Textiles Conference
DESCRIPTION:This two-day business conference targets forward-thinking leaders in the apparel and textiles industry\, bringing together a variety of stakeholders to focus on essential strategies for tackling today’s challenges. The event will equip attendees with actionable insights and guides for adapting operations to create a real impact amid growing competition and scrutiny\, all while managing tight budgets.
URL:https://textileexchange.org/event/sustainable-apparel-and-textiles-conference-3/
LOCATION:Hotel Casa Amsterdam\, Eerste Ringdijkstraat 4\, Amsterdam\, 1097\, Netherlands
CATEGORIES:Industry Event
END:VEVENT
BEGIN:VEVENT
DTSTART;TZID=America/Chicago:20250429T090000
DTEND;TZID=America/Chicago:20250501T190000
DTSTAMP:20260424T215445
CREATED:20250127T120719Z
LAST-MODIFIED:20250127T120719Z
UID:52068-1745917200-1746126000@textileexchange.org
SUMMARY:Circularity: Accelerating the Circular Economy
DESCRIPTION:Join Textile Exchange at Circularity\, a gathering of professionals advancing solutions for the circular economy (April 29-May 1\, 2025\, in Denver\, CO). Join the growing circularity community and gain insights to move beyond incremental action\, catalyze systems change\, and accelerate the shift to a circular economy. Buy Tickets
URL:https://textileexchange.org/event/circularity-accelerating-the-circular-economy/
LOCATION:Denver\, CO
CATEGORIES:Industry Event
END:VEVENT
BEGIN:VEVENT
DTSTART;VALUE=DATE:20250508
DTEND;VALUE=DATE:20250509
DTSTAMP:20260424T215445
CREATED:20250409T083332Z
LAST-MODIFIED:20250409T083702Z
UID:52627-1746662400-1746748799@textileexchange.org
SUMMARY:Sustainable Futures Conference
DESCRIPTION:Sustainable Futures brings together leaders from business and finance\, academic experts and decision makers from the world’s largest organisations to help solve one of the most disruptive challenges facing global business today. \nThis year’s conference\, Sustainable Futures: business value from sustainability\, held in partnership with the University of Cambridge Centre for Risk Studies\, looks to the resilience\, efficiencies and commercial opportunities available to organisations taking the lead on sustainability.
URL:https://textileexchange.org/event/sustainable-futures-conference/
LOCATION:London
CATEGORIES:Industry Event
END:VEVENT
BEGIN:VEVENT
DTSTART;VALUE=DATE:20250514
DTEND;VALUE=DATE:20250516
DTSTAMP:20260424T215445
CREATED:20250325T144001Z
LAST-MODIFIED:20250325T144101Z
UID:52460-1747180800-1747353599@textileexchange.org
SUMMARY:Cascale Forum: Ho Chi Minh City
DESCRIPTION:Under the theme Co-Creating Tomorrow: Unified Action for People & Planet\, this immersive two-day event will act as a catalyst for collective action. Curated to drive meaningful\, industry-wide change\, this Cascale Forum will bring together manufacturers\, leading brands\, and supply chain partners to collaborate on transformative solutions in the consumer goods industry.
URL:https://textileexchange.org/event/cascale-forum-ho-chi-minh-city/
LOCATION:Ho Chi Minh City
CATEGORIES:Industry Event
END:VEVENT
BEGIN:VEVENT
DTSTART;VALUE=DATE:20250518
DTEND;VALUE=DATE:20250521
DTSTAMP:20260424T215445
CREATED:20250325T144221Z
LAST-MODIFIED:20250325T144221Z
UID:52463-1747526400-1747785599@textileexchange.org
SUMMARY:Business of Luxury Summit
DESCRIPTION:The Financial Times Business of Luxury Summit returns in 2025 to explore the most influential trends and financial dynamics shaping the global luxury market. Key topics will include the spending patterns of ultra high-net-worth individuals\, the impact of China’s economic stimulus efforts\, and potential industry shifts in light of proposed U.S. tariffs. \nTaking place from 18–20 May at Hotel Arts in Barcelona and online\, the summit will feature a panel discussion titled “The real work of sustainability: How to build ethical supply chains\,” where Textile Exchange CEO Claire Bergkamp will join other leaders to discuss how luxury brands can respond to increasing regulatory and consumer demands by building more ethical and transparent supply chains.
URL:https://textileexchange.org/event/business-of-luxury-summit/
LOCATION:Barcelona
CATEGORIES:Industry Event
END:VEVENT
BEGIN:VEVENT
DTSTART;VALUE=DATE:20250603
DTEND;VALUE=DATE:20250606
DTSTAMP:20260424T215445
CREATED:20250430T112813Z
LAST-MODIFIED:20250430T112813Z
UID:52985-1748908800-1749167999@textileexchange.org
SUMMARY:Global Fashion Summit
DESCRIPTION:Organised by Global Fashion Agenda\, Global Fashion Summit convenes key stakeholders across the value chain to foster collaboration\, share knowledge\, and inspire action. \nAs one of the world’s most resource-intensive industries\, fashion faces increasing pressure to address its environmental and social impacts. The Summit offers a platform to explore how the industry can evolve—balancing growth with responsibility and resilience. By bringing together diverse perspectives and focusing on practical solutions\, it supports meaningful progress towards a more sustainable future for fashion.
URL:https://textileexchange.org/event/global-fashion-summit-2/
LOCATION:Copenhagen
CATEGORIES:Industry Event
END:VEVENT
END:VCALENDAR